Workbook

Sheet 2005
B1: Male | E1: Female | I1: Ratio (M/F)
A2: Agecat | B2: Single | C2: Cohab | D2: Married | E2: Single | F2: Cohab | G2: Married | I2: Single | J2: Cohab | K2: Married
A3: ALL | B3: 71644100 | C3: 6284021 | D3: 63435690 | E3: 78337598 | F3: 5943729 | G3: 62753681 | I3: =B3/E3 -> 0.91455574 | J3: =C3/F3 -> 1.0572523 | K3: =D3/G3 -> 1.010868
A4: <25 y.o. | B4: 48419637 | C4: 847129 | D4: 1566108 | E4: 44923725 | F4: 1223566 | G4: 2488088 | I4: =B4/E4 -> 1.0778188 | J4: =C4/F4 -> 0.69234434 | K4: =D4/G4 -> 0.62944237
A5: 25-34 y.o. | B5: 7255141 | C5: 2046462 | D5: 10002680 | E5: 6279247 | F5: 1819337 | G5: 11297977 | I5: =B5/E5 -> 1.1554158 | J5: =C5/F5 -> 1.1248394 | K5: =D5/G5 -> 0.88535142
A6: 35-44 y.o. | B6: 5079935 | C6: 1498916 | D6: 14780030 | E6: 5416546 | F6: 1318745 | G6: 15233704 | I6: =B6/E6 -> 0.93785505 | J6: =C6/F6 -> 1.1366231 | K6: =D6/G6 -> 0.97021906
A7: 45-54 y.o. | B7: 4665941 | C7: 1035172 | D7: 14872022 | E7: 5805372 | F7: 931701 | G7: 14756542 | I7: =B7/E7 -> 0.80372817 | J7: =C7/F7 -> 1.111056 | K7: =D7/G7 -> 1.0078257
A8: 55-64 y.o. | B8: 2830426 | C8: 529238 | D8: 11100583 | E8: 4954359 | F8: 421518 | G8: 10280765 | I8: =B8/E8 -> 0.57130014 | J8: =C8/F8 -> 1.2555526 | K8: =D8/G8 -> 1.0797429
A9: 65+ y.o. | B9: 3393020 | C9: 327104 | D9: 11114267 | E9: 10958349 | F9: 228862 | G9: 8696605 | I9: =B9/E9 -> 0.30962876 | J9: =C9/F9 -> 1.429263 | K9: =D9/G9 -> 1.2780007

Sheet 2006
B1: Male | E1: Female | I1: Ratio (M/F)
A2: Agecat | B2: Single | C2: Cohab | D2: Married | E2: Single | F2: Cohab | G2: Married | I2: Single | J2: Cohab | K2: Married
A3: ALL | B3: 78318274 | C3: 6183554 | D3: 62921548 | E3: 83949719 | F3: 5871610 | G3: 62153780 | I3: =B3/E3 -> 0.93291883 | J3: =C3/F3 -> 1.0531275 | K3: =D3/G3 -> 1.0123527
A4: <25 y.o. | B4: 50902903 | C4: 755386 | D4: 1403851 | E4: 47032715 | F4: 1109548 | G4: 2213216 | I4: =B4/E4 -> 1.0822871 | J4: =C4/F4 -> 0.68080516 | K4: =D4/G4 -> 0.63430366
A5: 25-34 y.o. | B5: 8654304 | C5: 2020986 | D5: 9591986 | E5: 6902150 | F5: 1827024 | G5: 10851366 | I5: =B5/E5 -> 1.2538563 | J5: =C5/F5 -> 1.1061628 | K5: =D5/G5 -> 0.88394272
A6: 35-44 y.o. | B6: 6008700 | C6: 1446652 | D6: 14484723 | E6: 5882764 | F6: 1302791 | G6: 14897076 | I6: =B6/E6 -> 1.0214076 | J6: =C6/F6 -> 1.1104252 | K6: =D6/G6 -> 0.97231987
A7: 45-54 y.o. | B7: 5466612 | C7: 1074289 | D7: 14737587 | E7: 6239895 | F7: 967698 | G7: 14784066 | I7: =B7/E7 -> 0.87607436 | J7: =C7/F7 -> 1.110149 | K7: =D7/G7 -> 0.99685614
A8: 55-64 y.o. | B8: 3351765 | C8: 559690 | D8: 11350338 | E8: 5395917 | F8: 447372 | G8: 10541228 | I8: =B8/E8 -> 0.62116689 | J8: =C8/F8 -> 1.2510618 | K8: =D8/G8 -> 1.0767567
A9: 65+ y.o. | B9: 3933990 | C9: 326551 | D9: 11353063 | E9: 12496278 | F9: 217177 | G9: 8866828 | I9: =B9/E9 -> 0.31481294 | J9: =C9/F9 -> 1.5036169 | K9: =D9/G9 -> 1.2803973

Sheet 2007
B1: Male | E1: Female | I1: Ratio (M/F)
A2: Agecat | B2: Single | C2: Cohab | D2: Married | E2: Single | F2: Cohab | G2: Married | I2: Single | J2: Cohab | K2: Married
A3: ALL | B3: 78894485 | C3: 6375190 | D3: 63369271 | E3: 84553860 | F3: 6053806 | G3: 62374547 | I3: =B3/E3 -> 0.93306781 | J3: =C3/F3 -> 1.0530879 | K3: =D3/G3 -> 1.0159476
A4: <25 y.o. | B4: 51134568 | C4: 776870 | D4: 1337460 | E4: 47192523 | F4: 1138636 | G4: 2107035 | I4: =B4/E4 -> 1.0835311 | J4: =C4/F4 -> 0.68228126 | K4: =D4/G4 -> 0.63475927
A5: 25-34 y.o. | B5: 8709947 | C5: 2120973 | D5: 9460682 | E5: 7011343 | F5: 1929723 | G5: 10651404 | I5: =B5/E5 -> 1.2422651 | J5: =C5/F5 -> 1.0991075 | K5: =D5/G5 -> 0.88820985
A6: 35-44 y.o. | B6: 5950860 | C6: 1485151 | D6: 14333807 | E6: 5820603 | F6: 1294650 | G6: 14707226 | I6: =B6/E6 -> 1.0223786 | J6: =C6/F6 -> 1.1471448 | K6: =D6/G6 -> 0.97460983
A7: 45-54 y.o. | B7: 5582365 | C7: 1085960 | D7: 14963140 | E7: 6305024 | F7: 1007230 | G7: 14969185 | I7: =B7/E7 -> 0.88538362 | J7: =C7/F7 -> 1.0781649 | K7: =D7/G7 -> 0.99959617
A8: 55-64 y.o. | B8: 3514641 | C8: 578344 | D8: 11677384 | E8: 5652937 | F8: 457628 | G8: 10865422 | I8: =B8/E8 -> 0.62173716 | J8: =C8/F8 -> 1.2637863 | K8: =D8/G8 -> 1.074729
A9: 65+ y.o. | B9: 4002104 | C9: 327892 | D9: 11596798 | E9: 12571430 | F9: 225939 | G9: 9074275 | I9: =B9/E9 -> 0.31834915 | J9: =C9/F9 -> 1.4512413 | K9: =D9/G9 -> 1.2779862

Sheet 2008
B1: Male | E1: Female | I1: Ratio (M/F)
A2: Agecat | B2: Single | C2: Cohab | D2: Married | E2: Single | F2: Cohab | G2: Married | I2: Single | J2: Cohab | K2: Married
A3: ALL | B3: 80295387 | C3: 6333746 | D3: 63234224 | E3: 85706152 | F3: 6143392 | G3: 62346827 | I3: =B3/E3 -> 0.93686842 | J3: =C3/F3 -> 1.0309852 | K3: =D3/G3 -> 1.0142332
A4: <25 y.o. | B4: 51338440 | C4: 782603 | D4: 1237684 | E4: 47458270 | F4: 1183983 | G4: 2041058 | I4: =B4/E4 -> 1.0817596 | J4: =C4/F4 -> 0.66099175 | K4: =D4/G4 -> 0.60639335
A5: 25-34 y.o. | B5: 9087294 | C5: 2151641 | D5: 9264680 | E5: 7258827 | F5: 1964596 | G5: 10561681 | I5: =B5/E5 -> 1.2518957 | J5: =C5/F5 -> 1.0952079 | K5: =D5/G5 -> 0.87719748
A6: 35-44 y.o. | B6: 5991537 | C6: 1452798 | D6: 14002346 | E6: 5763629 | F6: 1278017 | G6: 14296370 | I6: =B6/E6 -> 1.0395424 | J6: =C6/F6 -> 1.1367595 | K6: =D6/G6 -> 0.97943366
A7: 45-54 y.o. | B7: 5896755 | C7: 1091856 | D7: 14899164 | E7: 6527291 | F7: 1009351 | G7: 15017172 | I7: =B7/E7 -> 0.90340005 | J7: =C7/F7 -> 1.0817406 | K7: =D7/G7 -> 0.9921418
A8: 55-64 y.o. | B8: 3754702 | C8: 542149 | D8: 11949545 | E8: 5817733 | F8: 463523 | G8: 11178116 | I8: =B8/E8 -> 0.64538919 | J8: =C8/F8 -> 1.169627 | K8: =D8/G8 -> 1.0690124
A9: 65+ y.o. | B9: 4226659 | C9: 312699 | D9: 11880805 | E9: 12880402 | F9: 243922 | G9: 9252430 | I9: =B9/E9 -> 0.32814651 | J9: =C9/F9 -> 1.2819631 | K9: =D9/G9 -> 1.284074

Sheet 2009
B1: Male | E1: Female | I1: Ratio (M/F)
A2: Agecat | B2: Single | C2: Cohab | D2: Married | E2: Single | F2: Cohab | G2: Married | I2: Single | J2: Cohab | K2: Married
A3: ALL | B3: 81545701 | C3: 6584952 | D3: 63242697 | E3: 86771142 | F3: 6380454 | G3: 62481610 | I3: =B3/E3 -> 0.93977905 | J3: =C3/F3 -> 1.0320507 | K3: =D3/G3 -> 1.012181
A4: <25 y.o. | B4: 51858568 | C4: 785027 | D4: 1236261 | E4: 47962824 | F4: 1164279 | G4: 2001235 | I4: =B4/E4 -> 1.0812242 | J4: =C4/F4 -> 0.67426021 | K4: =D4/G4 -> 0.61774904
A5: 25-34 y.o. | B5: 9653469 | C5: 2285054 | D5: 9080938 | E5: 7723917 | F5: 2117292 | G5: 10427091 | I5: =B5/E5 -> 1.2498152 | J5: =C5/F5 -> 1.0792342 | K5: =D5/G5 -> 0.87089851
A6: 35-44 y.o. | B6: 5858396 | C6: 1484049 | D6: 13609753 | E6: 5670016 | F6: 1285909 | G6: 13918021 | I6: =B6/E6 -> 1.0332239 | J6: =C6/F6 -> 1.1540856 | K6: =D6/G6 -> 0.97785116
A7: 45-54 y.o. | B7: 5973060 | C7: 1133159 | D7: 14873067 | E7: 6518377 | F7: 1056414 | G7: 15032153 | I7: =B7/E7 -> 0.9163416 | J7: =C7/F7 -> 1.0726467 | K7: =D7/G7 -> 0.98941695
A8: 55-64 y.o. | B8: 3936701 | C8: 568881 | D8: 12263709 | E8: 5969733 | F8: 494405 | G8: 11572685 | I8: =B8/E8 -> 0.6594434 | J8: =C8/F8 -> 1.1506376 | K8: =D8/G8 -> 1.0597116
A9: 65+ y.o. | B9: 4265507 | C9: 328782 | D9: 12178969 | E9: 12926275 | F9: 262155 | G9: 9530425 | I9: =B9/E9 -> 0.32998733 | J9: =C9/F9 -> 1.2541512 | K9: =D9/G9 -> 1.2779041

Sheet 2010
B1: Male | E1: Female | I1: Ratio (M/F)
A2: Agecat | B2: Single | C2: Cohab | D2: Married | E2: Single | F2: Cohab | G2: Married | I2: Single | J2: Cohab | K2: Married
A3: ALL | B3: 82216652 | C3: 6818384 | D3: 63020406 | E3: 87660503 | F3: 6733204 | G3: 62900540 | I3: =B3/E3 -> 0.93789847 | J3: =C3/F3 -> 1.0126507 | K3: =D3/G3 -> 1.0019056
A4: <25 y.o. | B4: 51891940 | C4: 741149 | D4: 1121131 | E4: 48219761 | F4: 1147826 | G4: 1881753 | I4: =B4/E4 -> 1.0761551 | J4: =C4/F4 -> 0.64569804 | K4: =D4/G4 -> 0.59579073
A5: 25-34 y.o. | B5: 9528607 | C5: 2318486 | D5: 8647389 | E5: 7783564 | F5: 2236082 | G5: 10372276 | I5: =B5/E5 -> 1.2241959 | J5: =C5/F5 -> 1.036852 | K5: =D5/G5 -> 0.83370217
A6: 35-44 y.o. | B6: 5865211 | C6: 1513418 | D6: 13167124 | E6: 5632429 | F6: 1370365 | G6: 13794116 | I6: =B6/E6 -> 1.0413289 | J6: =C6/F6 -> 1.1043904 | K6: =D6/G6 -> 0.95454642
A7: 45-54 y.o. | B7: 6130408 | C7: 1211452 | D7: 14772170 | E7: 6706788 | F7: 1146085 | G7: 14957735 | I7: =B7/E7 -> 0.9140602 | J7: =C7/F7 -> 1.057035 | K7: =D7/G7 -> 0.98759404
A8: 55-64 y.o. | B8: 4321644 | C8: 661470 | D8: 12732566 | E8: 6359108 | F8: 556644 | G8: 12111618 | I8: =B8/E8 -> 0.67959909 | J8: =C8/F8 -> 1.1883178 | K8: =D8/G8 -> 1.0512688
A9: 65+ y.o. | B9: 4478842 | C9: 372409 | D9: 12580026 | E9: 12958853 | F9: 276202 | G9: 9783042 | I9: =B9/E9 -> 0.34562025 | J9: =C9/F9 -> 1.3483212 | K9: =D9/G9 -> 1.2859013

Sheet 2011
B1: Male | E1: Female | I1: Ratio (M/F)
A2: Agecat | B2: Single | C2: Cohab | D2: Married | E2: Single | F2: Cohab | G2: Married | I2: Single | J2: Cohab | K2: Married
A3: ALL | B3: 83305473 | C3: 6764126 | D3: 63178389 | E3: 88808566 | F3: 6653986 | G3: 62881379 | I3: =B3/E3 -> 0.93803421 | J3: =C3/F3 -> 1.0165525 | K3: =D3/G3 -> 1.0047233
A4: <25 y.o. | B4: 52035602 | C4: 684564 | D4: 1067375 | E4: 48445614 | F4: 1060631 | G4: 1765398 | I4: =B4/E4 -> 1.0741035 | J4: =C4/F4 -> 0.64543088 | K4: =D4/G4 -> 0.60460871
A5: 25-34 y.o. | B5: 9954722 | C5: 2294710 | D5: 8590254 | E5: 8152780 | F5: 2255491 | G5: 10222388 | I5: =B5/E5 -> 1.2210218 | J5: =C5/F5 -> 1.0173882 | K5: =D5/G5 -> 0.84033731
A6: 35-44 y.o. | B6: 5840640 | C6: 1547315 | D6: 12981523 | E6: 5788129 | F6: 1350931 | G6: 13468064 | I6: =B6/E6 -> 1.0090722 | J6: =C6/F6 -> 1.1453694 | K6: =D6/G6 -> 0.96387447
A7: 45-54 y.o. | B7: 6242509 | C7: 1176710 | D7: 14577502 | E7: 6701142 | F7: 1104390 | G7: 14845468 | I7: =B7/E7 -> 0.93155898 | J7: =C7/F7 -> 1.0654841 | K7: =D7/G7 -> 0.98194964
A8: 55-64 y.o. | B8: 4629200 | C8: 691776 | D8: 13028732 | E8: 6642712 | F8: 582699 | G8: 12474992 | I8: =B8/E8 -> 0.69688404 | J8: =C8/F8 -> 1.1871927 | K8: =D8/G8 -> 1.044388
A9: 65+ y.o. | B9: 4602800 | C9: 369051 | D9: 12933003 | E9: 13078189 | F9: 299844 | G9: 10105069 | I9: =B9/E9 -> 0.35194475 | J9: =C9/F9 -> 1.23081 | K9: =D9/G9 -> 1.279853

Sheet 2012
B1: Male | E1: Female | I1: Ratio (M/F)
A2: Agecat | B2: Single | C2: Cohab | D2: Married | E2: Single | F2: Cohab | G2: Married | I2: Single | J2: Cohab | K2: Married
A3: ALL | B3: 84052941 | C3: 6990585 | D3: 63371392 | E3: 89528964 | F3: 6850685 | G3: 63119473 | I3: =B3/E3 -> 0.93883518 | J3: =C3/F3 -> 1.0204213 | K3: =D3/G3 -> 1.0039911
A4: <25 y.o. | B4: 52014467 | C4: 699797 | D4: 1045378 | E4: 48528893 | F4: 1067264 | G4: 1716879 | I4: =B4/E4 -> 1.0718247 | J4: =C4/F4 -> 0.6556925 | K4: =D4/G4 -> 0.60888275
A5: 25-34 y.o. | B5: 10353663 | C5: 2340840 | D5: 8463551 | E5: 8431624 | F5: 2302138 | G5: 10120506 | I5: =B5/E5 -> 1.227956 | J5: =C5/F5 -> 1.0168113 | K5: =D5/G5 -> 0.83627745
A6: 35-44 y.o. | B6: 5879153 | C6: 1587260 | D6: 12897622 | E6: 5706285 | F6: 1400691 | G6: 13446484 | I6: =B6/E6 -> 1.0302943 | J6: =C6/F6 -> 1.1331978 | K6: =D6/G6 -> 0.95918175
A7: 45-54 y.o. | B7: 6148125 | C7: 1231451 | D7: 14386275 | E7: 6672959 | F7: 1133547 | G7: 14624664 | I7: =B7/E7 -> 0.92134913 | J7: =C7/F7 -> 1.0863696 | K7: =D7/G7 -> 0.98369952
A8: 55-64 y.o. | B8: 4793846 | C8: 715768 | D8: 13066287 | E8: 6783646 | F8: 620313 | G8: 12609100 | I8: =B8/E8 -> 0.70667691 | J8: =C8/F8 -> 1.153882 | K8: =D8/G8 -> 1.0362585
A9: 65+ y.o. | B9: 4863687 | C9: 415469 | D9: 13512279 | E9: 13405557 | F9: 326732 | G9: 10601840 | I9: =B9/E9 -> 0.36281126 | J9: =C9/F9 -> 1.2715896 | K9: =D9/G9 -> 1.2745221

Sheet Summary
A1: Agecat | C1: Male | F1: Female
C2: Single | D2: Cohab | E2: Married | F2: Single | G2: Cohab | H2: Married
A3: ALL | B3: 2005 | C3: ='2005'!B3 -> 71644100 | D3: ='2005'!C3 -> 6284021 | E3: ='2005'!D3 -> 63435690 | F3: ='2005'!E3 -> 78337598 | G3: ='2005'!F3 -> 5943729 | H3: ='2005'!G3 -> 62753681
B4: 2006 | C4: ='2006'!B3 -> 78318274 | D4: ='2006'!C3 -> 6183554 | E4: ='2006'!D3 -> 62921548 | F4: ='2006'!E3 -> 83949719 | G4: ='2006'!F3 -> 5871610 | H4: ='2006'!G3 -> 62153780
B5: 2007 | C5: ='2007'!B3 -> 78894485 | D5: ='2007'!C3 -> 6375190 | E5: ='2007'!D3 -> 63369271 | F5: ='2007'!E3 -> 84553860 | G5: ='2007'!F3 -> 6053806 | H5: ='2007'!G3 -> 62374547
B6: 2008 | C6: ='2008'!B3 -> 80295387 | D6: ='2008'!C3 -> 6333746 | E6: ='2008'!D3 -> 63234224 | F6: ='2008'!E3 -> 85706152 | G6: ='2008'!F3 -> 6143392 | H6: ='2008'!G3 -> 62346827
B7: 2009 | C7: ='2009'!B3 -> 81545701 | D7: ='2009'!C3 -> 6584952 | E7: ='2009'!D3 -> 63242697 | F7: ='2009'!E3 -> 86771142 | G7: ='2009'!F3 -> 6380454 | H7: ='2009'!G3 -> 62481610
B8: 2010 | C8: ='2010'!B3 -> 82216652 | D8: ='2010'!C3 -> 6818384 | E8: ='2010'!D3 -> 63020406 | F8: ='2010'!E3 -> 87660503 | G8: ='2010'!F3 -> 6733204 | H8: ='2010'!G3 -> 62900540
B9: 2011 | C9: ='2011'!B3 -> 83305473 | D9: ='2011'!C3 -> 6764126 | E9: ='2011'!D3 -> 63178389 | F9: ='2011'!E3 -> 88808566 | G9: ='2011'!F3 -> 6653986 | H9: ='2011'!G3 -> 62881379
B10: 2012 | C10: ='2012'!B3 -> 84052941 | D10: ='2012'!C3 -> 6990585 | E10: ='2012'!D3 -> 63371392 | F10: ='2012'!E3 -> 89528964 | G10: ='2012'!F3 -> 6850685 | H10: ='2012'!G3 -> 63119473
C12: Male | F12: Female
C13: Single | D13: Cohab | E13: Married | F13: Single | G13: Cohab | H13: Married
A14: <25 y.o. | B14: 2005 | C14: ='2005'!B4 -> 48419637 | D14: ='2005'!C4 -> 847129 | E14: ='2005'!D4 -> 1566108 | F14: ='2005'!E4 -> 44923725 | G14: ='2005'!F4 -> 1223566 | H14: ='2005'!G4 -> 2488088
B15: 2006 | C15: ='2006'!B4 -> 50902903 | D15: ='2006'!C4 -> 755386 | E15: ='2006'!D4 -> 1403851 | F15: ='2006'!E4 -> 47032715 | G15: ='2006'!F4 -> 1109548 | H15: ='2006'!G4 -> 2213216
B16: 2007 | C16: ='2007'!B4 -> 51134568 | D16: ='2007'!C4 -> 776870 | E16: ='2007'!D4 -> 1337460 | F16: ='2007'!E4 -> 47192523 | G16: ='2007'!F4 -> 1138636 | H16: ='2007'!G4 -> 2107035
B17: 2008 | C17: ='2008'!B4 -> 51338440 | D17: ='2008'!C4 -> 782603 | E17: ='2008'!D4 -> 1237684 | F17: ='2008'!E4 -> 47458270 | G17: ='2008'!F4 -> 1183983 | H17: ='2008'!G4 -> 2041058
B18: 2009 | C18: ='2009'!B4 -> 51858568 | D18: ='2009'!C4 -> 785027 | E18: ='2009'!D4 -> 1236261 | F18: ='2009'!E4 -> 47962824 | G18: ='2009'!F4 -> 1164279 | H18: ='2009'!G4 -> 2001235
B19: 2010 | C19: ='2010'!B4 -> 51891940 | D19: ='2010'!C4 -> 741149 | E19: ='2010'!D4 -> 1121131 | F19: ='2010'!E4 -> 48219761 | G19: ='2010'!F4 -> 1147826 | H19: ='2010'!G4 -> 1881753
B20: 2011 | C20: ='2011'!B4 -> 52035602 | D20: ='2011'!C4 -> 684564 | E20: ='2011'!D4 -> 1067375 | F20: ='2011'!E4 -> 48445614 | G20: ='2011'!F4 -> 1060631 | H20: ='2011'!G4 -> 1765398
B21: 2012 | C21: ='2012'!B4 -> 52014467 | D21: ='2012'!C4 -> 699797 | E21: ='2012'!D4 -> 1045378 | F21: ='2012'!E4 -> 48528893 | G21: ='2012'!F4 -> 1067264 | H21: ='2012'!G4 -> 1716879
C23: Male | F23: Female
C24: Single | D24: Cohab | E24: Married | F24: Single | G24: Cohab | H24: Married
A25: 25-34 y.o. | B25: 2005 | C25: ='2005'!B5 -> 7255141 | D25: ='2005'!C5 -> 2046462 | E25: ='2005'!D5 -> 10002680 | F25: ='2005'!E5 -> 6279247 | G25: ='2005'!F5 -> 1819337 | H25: ='2005'!G5 -> 11297977
B26: 2006 | C26: ='2006'!B5 -> 8654304 | D26: ='2006'!C5 -> 2020986 | E26: ='2006'!D5 -> 9591986 | F26: ='2006'!E5 -> 6902150 | G26: ='2006'!F5 -> 1827024 | H26: ='2006'!G5 -> 10851366
B27: 2007 | C27: ='2007'!B5 -> 8709947 | D27: ='2007'!C5 -> 2120973 | E27: ='2007'!D5 -> 9460682 | F27: ='2007'!E5 -> 7011343 | G27: ='2007'!F5 -> 1929723 | H27: ='2007'!G5 -> 10651404
B28: 2008 | C28: ='2008'!B5 -> 9087294 | D28: ='2008'!C5 -> 2151641 | E28: ='2008'!D5 -> 9264680 | F28: ='2008'!E5 -> 7258827 | G28: ='2008'!F5 -> 1964596 | H28: ='2008'!G5 -> 10561681
B29: 2009 | C29: ='2009'!B5 -> 9653469 | D29: ='2009'!C5 -> 2285054 | E29: ='2009'!D5 -> 9080938 | F29: ='2009'!E5 -> 7723917 | G29: ='2009'!F5 -> 2117292 | H29: ='2009'!G5 -> 10427091
B30: 2010 | C30: ='2010'!B5 -> 9528607 | D30: ='2010'!C5 -> 2318486 | E30: ='2010'!D5 -> 8647389 | F30: ='2010'!E5 -> 7783564 | G30: ='2010'!F5 -> 2236082 | H30: ='2010'!G5 -> 10372276
B31: 2011 | C31: ='2011'!B5 -> 9954722 | D31: ='2011'!C5 -> 2294710 | E31: ='2011'!D5 -> 8590254 | F31: ='2011'!E5 -> 8152780 | G31: ='2011'!F5 -> 2255491 | H31: ='2011'!G5 -> 10222388
B32: 2012 | C32: ='2012'!B5 -> 10353663 | D32: ='2012'!C5 -> 2340840 | E32: ='2012'!D5 -> 8463551 | F32: ='2012'!E5 -> 8431624 | G32: ='2012'!F5 -> 2302138 | H32: ='2012'!G5 -> 10120506
C34: Male | F34: Female
C35: Single | D35: Cohab | E35: Married | F35: Single | G35: Cohab | H35: Married
A36: 35-44 y.o. | B36: 2005 | C36: ='2005'!B6 -> 5079935 | D36: ='2005'!C6 -> 1498916 | E36: ='2005'!D6 -> 14780030 | F36: ='2005'!E6 -> 5416546 | G36: ='2005'!F6 -> 1318745 | H36: ='2005'!G6 -> 15233704
B37: 2006 | C37: ='2006'!B6 -> 6008700 | D37: ='2006'!C6 -> 1446652 | E37: ='2006'!D6 -> 14484723 | F37: ='2006'!E6 -> 5882764 | G37: ='2006'!F6 -> 1302791 | H37: ='2006'!G6 -> 14897076
B38: 2007 | C38: ='2007'!B6 -> 5950860 | D38: ='2007'!C6 -> 1485151 | E38: ='2007'!D6 -> 14333807 | F38: ='2007'!E6 -> 5820603 | G38: ='2007'!F6 -> 1294650 | H38: ='2007'!G6 -> 14707226
B39: 2008 | C39: ='2008'!B6 -> 5991537 | D39: ='2008'!C6 -> 1452798 | E39: ='2008'!D6 -> 14002346 | F39: ='2008'!E6 -> 5763629 | G39: ='2008'!F6 -> 1278017 | H39: ='2008'!G6 -> 14296370
B40: 2009 | C40: ='2009'!B6 -> 5858396 | D40: ='2009'!C6 -> 1484049 | E40: ='2009'!D6 -> 13609753 | F40: ='2009'!E6 -> 5670016 | G40: ='2009'!F6 -> 1285909 | H40: ='2009'!G6 -> 13918021
B41: 2010 | C41: ='2010'!B6 -> 5865211 | D41: ='2010'!C6 -> 1513418 | E41: ='2010'!D6 -> 13167124 | F41: ='2010'!E6 -> 5632429 | G41: ='2010'!F6 -> 1370365 | H41: ='2010'!G6 -> 13794116
B42: 2011 | C42: ='2011'!B6 -> 5840640 | D42: ='2011'!C6 -> 1547315 | E42: ='2011'!D6 -> 12981523 | F42: ='2011'!E6 -> 5788129 | G42: ='2011'!F6 -> 1350931 | H42: ='2011'!G6 -> 13468064
B43: 2012 | C43: ='2012'!B6 -> 5879153 | D43: ='2012'!C6 -> 1587260 | E43: ='2012'!D6 -> 12897622 | F43: ='2012'!E6 -> 5706285 | G43: ='2012'!F6 -> 1400691 | H43: ='2012'!G6 -> 13446484
...
